Workbook

Sheet План закупок
B4: ПЛАН ЗАКУПКИ ТОВАРОВ (РАБОТ, УСЛУГ)
B5: на 2026 год
A7: Наименование заказчика | E7: АО "Международный аэропорт Владивосток"
A8: Адрес местонахождения заказчика | E8: 692756, Приморский край г. Артем ул. Владимира Сайбеля, 41
A9: Телефон заказчика | E9: (423) 230-69-99
A10: Электронная почта заказчика | E10: via@vvo.aero
A11: ИНН | E11: 2502035642
A12: КПП | E12: 250201001
A13: ОКАТО | E13: 5405000000
A16: Порядковый номер | B16: Код по ОКВЭД2 | C16: Код по ОКПД2 | D16: Условия договора | N16: Способ закупки | O16: Закупка в электронной форме да (нет) | P16: Участие субъектов МСП в закупке (Да/Нет) | Q16: Объем финансового обеспечения закупки за счет средств субсидии, предоставляемой в целях реализации национальных и федеральных проектов, комплексного плана модернизации и расширения магистральной инфраструктуры*
D17: Предмет договора | E17: Минимально необходимые требования, предъявляемые к закупаемым товарам (работам, услугам) | F17: Единица измерения | H17: Сведения о количестве (объеме) | I17: Регион поставки товаров (выполнения работ, оказания услуг) | K17: Сведения о начальной (максимальной) цене договора (цене лота) | L17: График осуществления процедур закупки
F18: код по ОКЕИ | G18: наименование | I18: код по ОКАТО | J18: наименование | L18: планируемая дата или период размещения извещения о закупке (месяц, год) | M18: срок исполнения договора (месяц, год)
A19: 1 | B19: 2 | C19: 3 | D19: 4 | E19: 5 | F19: 6 | G19: 7 | H19: 8 | I19: 9 | J19: 10 | K19: 11 | L19: 12 | M19: 13 | N19: 14 | O19: 15 | P19: 16 | Q19: 17
D20: Долгосрочные с 2024-2025 года
A21: 1 | B21: 62.09 | C21: 62.09.20.190 | D21: Оказание услуг по сопровождению Электронного периодического справочника «Система ГАРАНТ» | F21: =IFERROR(VLOOKUP(G21,Лист2!$B$3:$C$8,2,FALSE),"-") -> 876 | G21: условная единица | H21: 1 | I21: 05405000000 | J21: Приморский край | K21: 998470 | L21: 06.2024 | M21: 07.2026 | N21: Запрос котировок (для СМП) | O21: Да | P21: Да | Q21: нет
A22: 2 | B22: 62.02 | C22: 62.02.30.000 | D22: Оказание услуг по технической поддержке ПО «Компонент Платформы «Secure Airport» Программного Комплекса «СпецКонтроль» | F22: =IFERROR(VLOOKUP(G22,Лист2!$B$3:$C$8,2,FALSE),"-") -> 876 | G22: условная единица | H22: 1 | I22: 05405000000 | J22: Приморский край | K22: 2880000 | L22: 07.2023 | M22: 06.2026 | N22: Единственный поставщик | O22: Нет | P22: нет | Q22: нет
A23: 3 | B23: 38.11 | C23: 38.11.21.000 | D23: Оказание услуг по обращению с твердыми коммунальными отходами | F23: =IFERROR(VLOOKUP(G23,Лист2!$B$3:$C$8,2,FALSE),"-") -> 876 | G23: условная единица | H23: 1 | I23: 05405000000 | J23: Приморский край | K23: 401846.48 | L23: 12.2025 | M23: 12.2026 | N23: Единственный поставщик | O23: Нет | P23: нет | Q23: нет
A24: 4 | B24: 36.00 | C24: 36.00.11.000 | D24: Оказание услуг по отпуску питьевой воды | F24: =IFERROR(VLOOKUP(G24,Лист2!$B$3:$C$8,2,FALSE),"-") -> 876 | G24: условная единица | H24: 1 | I24: 05405000000 | J24: Приморский край | K24: 1728425 | L24: 12.2025 | M24: 12.2026 | N24: Единственный поставщик | O24: Нет | P24: нет | Q24: нет
A25: 5 | B25: 26.30 | C25: 26.30.50.110 | D25: Выполнение работ по поставке, монтажу и интеграции системы СКУД и оконечных устройств охранной сигнализации | F25: =IFERROR(VLOOKUP(G25,Лист2!$B$3:$C$8,2,FALSE),"-") -> 876 | G25: условная единица | H25: 1 | I25: 05405000000 | J25: Приморский край | K25: 8556828 | L25: 11.2025 | M25: 04.2026 | N25: Запрос предложений (для СМП) | O25: Да | P25: Да | Q25: нет
A26: 6 | B26: 86.90 | C26: 86.90.19.190 | D26: Проведение ежегодного профилактического медицинского осмотра,включая химико-токсикологические исследования | F26: =IFERROR(VLOOKUP(G26,Лист2!$B$3:$C$8,2,FALSE),"-") -> 876 | G26: условная единица | H26: 1 | I26: 05405000000 | J26: Приморский край | K26: 2000000 | L26: 03.2025 | M26: 12.2026 | N26: Запрос котировок | O26: Да | P26: нет | Q26: нет
A27: 7 | B27: 22.29 | C27: 22.29.29.190 | D27: Поставка элементов щеток полипропиленовых: 254*990 | F27: =IFERROR(VLOOKUP(G27,Лист2!$B$3:$C$8,2,FALSE),"-") -> 796 | G27: штука | H27: не определено | I27: 05405000000 | J27: Приморский край | L27: 04.2026 | M27: 09.2026 | N27: Запрос котировок (для СМП) | O27: Да | P27: Да | Q27: нет
A28: 8 | B28: 86.90 | C28: 86.90.19.190 | D28: Оказание услуг по проведению медицинских осмотров_x000D_ | F28: =IFERROR(VLOOKUP(G28,Лист2!$B$3:$C$8,2,FALSE),"-") -> 876 | G28: условная единица | H28: 1 | I28: 05405000000 | J28: Приморский край | K28: 500000 | L28: 07.2025 | M28: 08.2026 | N28: Закупка в электронном магазине (для СМСП) | O28: Да | P28: Да | Q28: нет
A29: 9 | B29: 29.32 | C29: 29.32.30.390 | D29: Поставка запасных частей на тракторную косилку McConnel SR820 | F29: =IFERROR(VLOOKUP(G29,Лист2!$B$3:$C$8,2,FALSE),"-") -> 796 | G29: штука | H29: 3 | I29: 05405000000 | J29: Приморский край | K29: 1088325 | L29: 12.2025 | M29: 03.2026 | N29: Закупка в электронном магазине (для СМСП) | O29: Да | P29: Да | Q29: нет
A30: 10 | B30: 33.12 | C30: 33.12.29.900 | D30: Выполнение работ по техническому обслуживанию и ремонту автоматических ворот и шлагбаумов на КПП № 1, №3 и № 4 | F30: =IFERROR(VLOOKUP(G30,Лист2!$B$3:$C$8,2,FALSE),"-") -> 876 | G30: условная единица | H30: 1 | I30: 05405000000 | J30: Приморский край | K30: 579600 | L30: 01.2025 | M30: 02.2026 | N30: Запрос предложений (для СМП) | O30: Да | P30: Да | Q30: нет
A31: 11 | B31: 80.10 | C31: 80.10.12.200 | D31: Оказание услуг охраны объектов аэропорта | F31: =IFERROR(VLOOKUP(G31,Лист2!$B$3:$C$8,2,FALSE),"-") -> 876 | G31: условная единица | H31: 1 | I31: 05405000000 | J31: Приморский край | K31: 20000000 | L31: 08.2025 | M31: 02.2026 | N31: Закупка в электронном магазине (для СМСП) | O31: Да | Q31: нет
A32: 12 | B32: 65.12 | C32: 65.12.32.000 | D32: Страхование гражданской ответственности аэропортовой деятельности АО "МАВ" | F32: =IFERROR(VLOOKUP(G32,Лист2!$B$3:$C$8,2,FALSE),"-") -> 876 | G32: условная единица | H32: 1 | I32: 05405000000 | J32: Приморский край | K32: 3920000 | L32: 07.2025 | M32: 06.2027 | N32: Единственный поставщик | O32: Нет | P32: нет | Q32: нет
A33: 13 | B33: 29.32.3 | C33: 29.32.30.390 | D33: Поставка оси в сборе для аэродромного тягача Fressia SP-300 | F33: =IFERROR(VLOOKUP(G33,Лист2!$B$3:$C$8,2,FALSE),"-") -> 796 | G33: штука | H33: 1 | I33: 05405000000 | J33: Приморский край | K33: 8747061.8 | L33: 12.2025 | M33: 04.2026 | N33: Закупка в электронном магазине (для СМСП) | O33: Да | P33: Да | Q33: нет
A34: 14 | B34: 10.92 | C34: 10.92.10.110 | D34: Поставка корма для собак | F34: =IFERROR(VLOOKUP(G34,Лист2!$B$3:$C$8,2,FALSE),"-") -> 796 | G34: штука | H34: не определено | I34: 05405000000 | J34: Приморский край | K34: 2000000 | L34: 12.2025 | M34: 12.2027 | N34: Закупка в электронном магазине (для СМСП) | O34: Да | P34: Да | Q34: нет
A35: 15 | B35: 86.21 | C35: 86.21.10.120 | D35: Оказание услуг по проведению периодических медицинских осмотров с вредными условиями труда | F35: =IFERROR(VLOOKUP(G35,Лист2!$B$3:$C$8,2,FALSE),"-") -> 876 | G35: условная единица | H35: 1 | I35: 05405000000 | J35: Приморский край | K35: 3894367 | L35: 12.2025 | M35: 12.2026 | N35: Запрос котировок | O35: Да | P35: нет | Q35: нет
A36: 16 | B36: 65.12 | C36: 65.12.49.000 | D36: Оказание услуг страхования имущества от рисков | F36: =IFERROR(VLOOKUP(G36,Лист2!$B$3:$C$8,2,FALSE),"-") -> 876 | G36: условная единица | H36: 1 | I36: 05405000000 | J36: Приморский край | K36: 1416135.4 | L36: 04.2025 | M36: 04.2028 | N36: Единственный поставщик | O36: Нет | P36: нет | Q36: нет
A37: 17 | B37: 65.12 | C37: 65.12.29.000 | D37: Страхование КАСКО (LC-200) | F37: =IFERROR(VLOOKUP(G37,Лист2!$B$3:$C$8,2,FALSE),"-") -> 876 | G37: условная единица | H37: 1 | I37: 05405000000 | J37: Приморский край | K37: 198449 | L37: 04.2025 | M37: 05.2026 | N37: Единственный поставщик | O37: Нет | P37: нет | Q37: нет
A38: 18 | B38: 19.20 | C38: 19.20.21.100 | D38: Поставка нефтепродуктов_x000D_ | F38: =IFERROR(VLOOKUP(G38,Лист2!$B$3:$C$8,2,FALSE),"-") -> 876 | G38: условная единица | H38: 1 | I38: 05405000000 | J38: Приморский край | K38: 50000000 | L38: 05.2025 | M38: 12.2026 | N38: Открытый конкурс (для СМП) | O38: Да | P38: Да | Q38: нет
A39: 19 | B39: 63.99 | C39: 63.99.10.190 | D39: Оказание услуг по обеспечению формирования в ASTRA DCS сведений о пассажирских перевозках и передаче сведений в АЦБПДП | F39: =IFERROR(VLOOKUP(G39,Лист2!$B$3:$C$8,2,FALSE),"-") -> 876 | G39: условная единица | H39: 1 | I39: 05405000000 | J39: Приморский край | K39: 1200000 | L39: 12.2025 | M39: 12.2027 | N39: Единственный поставщик | O39: Нет | P39: нет | Q39: нет
A40: 20 | B40: 65.12 | C40: 65.12.12.000 | D40: Оказание услуг по добровольному медицинскому страхованию (ДМС) | F40: =IFERROR(VLOOKUP(G40,Лист2!$B$3:$C$8,2,FALSE),"-") -> 876 | G40: условная единица | H40: 1 | I40: 05405000000 | J40: Приморский край | K40: 3000000 | L40: 05.2025 | M40: 04.2026 | N40: Единственный поставщик | O40: Нет | P40: нет | Q40: нет
A41: 21 | B41: 29.32 | C41: 29.32.30.129 | D41: Поставка запасных частей для автомобилей и специальной техники | F41: =IFERROR(VLOOKUP(G41,Лист2!$B$3:$C$8,2,FALSE),"-") -> 796 | G41: штука | H41: не определено | I41: 05405000000 | J41: Приморский край | K41: 7000000 | L41: 10.2025 | M41: 12.2027 | N41: Единственный поставщик | O41: Нет | P41: нет | Q41: нет
A42: 22 | B42: 33.12 | C42: 33.12.16.000 | D42: Выполнение работ по техническому обслуживанию оборудования автоматизированной информационно-измерительной системы технического учета «Аэропорт» | F42: =IFERROR(VLOOKUP(G42,Лист2!$B$3:$C$8,2,FALSE),"-") -> 876 | G42: условная единица | H42: 1 | I42: 05405000000 | J42: Приморский край | K42: 576600 | L42: 08.2025 | M42: 09.2026 | N42: Запрос предложений (для СМП) | O42: Да | P42: Да | Q42: нет
A43: 23 | B43: 61.10.3 | C43: 61.10.30.190 | D43: Оказание услуг связи (доступ в сеть интернет) | F43: =IFERROR(VLOOKUP(G43,Лист2!$B$3:$C$8,2,FALSE),"-") -> 876 | G43: условная единица | H43: 1 | I43: 05405000000 | J43: Приморский край | K43: 1800000 | L43: 01.2025 | M43: 08.2026 | N43: Единственный поставщик | O43: Нет | P43: нет | Q43: нет
A44: 24 | B44: 80.10 | C44: 80.10.19.000 | D44: Оказание услуг по осуществлению проверок для аттестации сил обеспечения транспортной безопасности на воздушном транспорте сотрудников СТ(А)Б | F44: =IFERROR(VLOOKUP(G44,Лист2!$B$3:$C$8,2,FALSE),"-") -> 876 | G44: условная единица | H44: 1 | I44: 05405000000 | J44: Приморский край | K44: 2556600 | L44: 02.2025 | M44: 12.2026 | N44: Запрос котировок (для СМП) | O44: Да | P44: Да | Q44: нет
A45: 25 | B45: 63.99 | C45: 63.99.10.190 | D45: Оказание услуг по обеспечению осуществления автоматизированного процесса обслуживания рейсов, регистрации и отправки пассажиров и багажа с помощью АС «Астра» | F45: =IFERROR(VLOOKUP(G45,Лист2!$B$3:$C$8,2,FALSE),"-") -> 876 | G45: условная единица | H45: 1 | I45: 05405000000 | J45: Приморский край | K45: 1600000 | L45: 10.2025 | M45: 11.2026 | N45: Единственный поставщик | O45: Нет | P45: нет | Q45: нет
A46: 26 | B46: 80.20 | C46: 80.20.10.000 | D46: Оказание услуг по техническому обслуживанию системы охранно-пожарной сигнализации, системы ФЭС и пожарного оборудования | F46: =IFERROR(VLOOKUP(G46,Лист2!$B$3:$C$8,2,FALSE),"-") -> 876 | G46: условная единица | H46: 1 | I46: 05405000000 | J46: Приморский край | K46: 2080598.1 | L46: 11.2025 | M46: 11.2026 | N46: Запрос предложений (для СМП) | O46: Да | P46: Да | Q46: нет
...

Sheet Образец
A1: Наименование заказчика | E1: АО "Международный аэропорт Владивосток"
A2: Адрес местонахождения заказчика | E2: =IF($E$1=Лист2!$J$2,Лист2!J3,IF($E$1=Лист2!$K$2,Лист2!K3,"-")) -> 692756, Приморский край г. Артем ул. Владимира Сайбеля, 41
A3: Телефон заказчика | E3: =IF($E$1=Лист2!$J$2,Лист2!J4,IF($E$1=Лист2!$K$2,Лист2!K4,"-")) -> (423) 230-69-99
A4: Электронная почта заказчика | E4: =IF($E$1=Лист2!$J$2,Лист2!J5,IF($E$1=Лист2!$K$2,Лист2!K5,"-")) -> via@vvo.aero
A5: ИНН | E5: =IF($E$1=Лист2!$J$2,Лист2!J6,IF($E$1=Лист2!$K$2,Лист2!K6,"-")) -> 2502035642
A6: КПП | E6: =IF($E$1=Лист2!$J$2,Лист2!J7,IF($E$1=Лист2!$K$2,Лист2!K7,"-")) -> 250201001
A7: ОКАТО | E7: =IF($E$1=Лист2!$J$2,Лист2!J8,IF($E$1=Лист2!$K$2,Лист2!K8,"-")) -> 5405000000
A9: Порядковый номер | B9: Код по ОКВЭД2 | C9: Код по ОКПД2 | D9: Условия договора | N9: Дата предоставления в СЗЗ согласованной Заявки на закупку (ТЗ, смета и т.п.) (за 14 к дн до даты извещения) | O9: Заключение договора (+43 к дн от даты извещения) | P9: Способ закупки | Q9: Закупка в электронной форме да (нет) | R9: Участие субъектов МСП в закупке (Да/Нет) | S9: Статья затрат
D10: Предмет договора | E10: Минимально необходимые требования, предъявляемые к закупаемым товарам (работам, услугам) | F10: Единица измерения | H10: Сведения о количестве (объеме) | I10: Регион поставки товаров (выполнения работ, оказания услуг) | K10: Сведения о начальной (максимальной) цене договора (цене лота) | L10: График осуществления процедур закупки
F11: код по ОКЕИ | G11: наименование | I11: код по ОКАТО | J11: наименование | L11: планируемая дата или период размещения извещения о закупке (месяц, год) | M11: срок исполнения договора (месяц, год)
A12: 1 | B12: 2 | C12: 3 | D12: 4 | E12: 5 | F12: 6 | G12: 7 | H12: 8 | I12: 9 | J12: 10 | K12: 11 | L12: 12 | M12: 13 | N12: 14 | O12: 15 | P12: 16 | Q12: 17 | R12: 18 | S12: 19
A13: 1 | B13: 28.24 | C13: 28.24.12.190 | D13: Выполнение работ по текущему ремонту аэродромных покрытий | E13: Выполнение работ квалифицированной организацией | F13: 876 | G13: условная единица | H13: 1 | I13: 05405000000 | J13: Приморский край | K13: 58000000 | L13: 46082 | M13: 46327 | N13: =L13-14 -> 46068 | O13: =L13+43 -> 46125 | P13: Конкурентный | Q13: Да | R13: Нет | S13: и21
A14: 2 | B14: 20.30 | C14: 20.30.12 | D14: Поставка лакокрасочных материалов для маркировки аэродромных знаков | E14: Наличие заключения аккредитованной лаборатории отраслевой научной организации | F14: 166 | G14: кг | H14: 12358 | I14: 05405000000 | J14: Приморский край | K14: 3073000 | L14: 46113 | M14: 46174 | N14: =L14-14 -> 46099 | O14: =L14+43 -> 46156 | P14: Конкурентный | Q14: Да | R14: Да | S14: о2707
F15: =VLOOKUP(G15,Лист2!$B$3:$C$8,2,FALSE) -> #N/A | I15: 05405000000 | J15: Приморский край
F16: =VLOOKUP(G16,Лист2!$B$3:$C$8,2,FALSE) -> #N/A | I16: 05405000000 | J16: Приморский край
F17: =VLOOKUP(G17,Лист2!$B$3:$C$8,2,FALSE) -> #N/A | I17: 05405000000 | J17: Приморский край
F18: =VLOOKUP(G18,Лист2!$B$3:$C$8,2,FALSE) -> #N/A | I18: 05405000000 | J18: Приморский край
F19: =VLOOKUP(G19,Лист2!$B$3:$C$8,2,FALSE) -> #N/A | I19: 05405000000 | J19: Приморский край
F20: =VLOOKUP(G20,Лист2!$B$3:$C$8,2,FALSE) -> #N/A | I20: 05405000000 | J20: Приморский край
F21: =VLOOKUP(G21,Лист2!$B$3:$C$8,2,FALSE) -> #N/A | I21: 05405000000 | J21: Приморский край
F22: =VLOOKUP(G22,Лист2!$B$3:$C$8,2,FALSE) -> #N/A | I22: 05405000000 | J22: Приморский край
F23: =VLOOKUP(G23,Лист2!$B$3:$C$8,2,FALSE) -> #N/A | I23: 05405000000 | J23: Приморский край
F24: =VLOOKUP(G24,Лист2!$B$3:$C$8,2,FALSE) -> #N/A | I24: 05405000000 | J24: Приморский край
F25: =VLOOKUP(G25,Лист2!$B$3:$C$8,2,FALSE) -> #N/A | I25: 05405000000 | J25: Приморский край
F26: =VLOOKUP(G26,Лист2!$B$3:$C$8,2,FALSE) -> #N/A | I26: 05405000000 | J26: Приморский край
... F48: =VLOOKUP(G48,Лист2!$B$3:$C$8,2,FALSE) -> #N/A | I48: 05405000000 | J48: Приморский край
B50: Руководитель подразделения

Sheet Лист2
B1: Единица измерения | G1: Способ закупки
B2: наименование | C2: код по ОКЕИ | E2: Да | G2: Конкурентный | J2: АО "Терминал Владивосток" | K2: АО "Международный аэропорт Владивосток"
B3: Гигакалория | C3: 233 | E3: Нет | G3: Электронный магазин | J3: 692756, Приморский край г. Артем ул. Владимира Сайбеля, 45 | K3: 692756, Приморский край г. Артем ул. Владимира Сайбеля, 41
B4: кг | C4: 166 | G4: Единственный поставщик | J4: 8(423) 230-69-22 | K4: (423) 230-69-99
B5: Кубический метр | C5: 113 | J5: kanc@vvo.aero | K5: via@vvo.aero
B6: условная единица | C6: 876 | J6: 2502039781 | K6: 2502035642
B7: услуга | C7: 797 | J7: 250201001 | K7: 250201001
B8: штука | C8: 796 | J8: 5405000000 | K8: 5405000000
